BEGIN:VCALENDAR
VERSION:2.0
PRODID:-//Maroc Historic Rally by Yves loubet - ECPv6.3.7//NONSGML v1.0//EN
CALSCALE:GREGORIAN
METHOD:PUBLISH
X-ORIGINAL-URL:https://yl-historicrallyevents.com
X-WR-CALDESC:évènements pour Maroc Historic Rally by Yves loubet
REFRESH-INTERVAL;VALUE=DURATION:PT1H
X-Robots-Tag:noindex
X-PUBLISHED-TTL:PT1H
BEGIN:VTIMEZONE
TZID:UTC
BEGIN:STANDARD
TZOFFSETFROM:+0000
TZOFFSETTO:+0000
TZNAME:UTC
DTSTART:20240101T000000
END:STANDARD
END:VTIMEZONE
BEGIN:VEVENT
DTSTART;TZID=UTC:20240720T080000
DTEND;TZID=UTC:20240720T170000
DTSTAMP:20260423T202306
CREATED:20180626T093352Z
LAST-MODIFIED:20230825T113736Z
UID:790-1721462400-1721494800@yl-historicrallyevents.com
SUMMARY:Singles Race 1 (15 Laps)
DESCRIPTION:
URL:https://yl-historicrallyevents.com/event/singles-race-1-15-laps/
LOCATION:High Village Park\, High Village Park\, Newark\, NJ\, 1111\, United States
ATTACH;FMTTYPE=image/jpeg:https://yl-historicrallyevents.com/wp-content/uploads/2018/06/gallery-1-copyright-min.jpg
ORGANIZER;CN="Corredo":MAILTO:yoursite@example.com
END:VEVENT
END:VCALENDAR