BEGIN:VCALENDAR
VERSION:2.0
PRODID:-//Maroc Historic Rally by Yves loubet - ECPv6.3.7//NONSGML v1.0//EN
CALSCALE:GREGORIAN
METHOD:PUBLISH
X-WR-CALNAME:Maroc Historic Rally by Yves loubet
X-ORIGINAL-URL:https://yl-historicrallyevents.com
X-WR-CALDESC:évènements pour Maroc Historic Rally by Yves loubet
REFRESH-INTERVAL;VALUE=DURATION:PT1H
X-Robots-Tag:noindex
X-PUBLISHED-TTL:PT1H
BEGIN:VTIMEZONE
TZID:UTC
BEGIN:STANDARD
TZOFFSETFROM:+0000
TZOFFSETTO:+0000
TZNAME:UTC
DTSTART:20240101T000000
END:STANDARD
END:VTIMEZONE
BEGIN:VEVENT
DTSTART;TZID=UTC:20240918T080000
DTEND;TZID=UTC:20240918T170000
DTSTAMP:20260423T161749
CREATED:20180626T092332Z
LAST-MODIFIED:20230825T113818Z
UID:773-1726646400-1726678800@yl-historicrallyevents.com
SUMMARY:Rider Autograph Session / Open Paddock
DESCRIPTION:
URL:https://yl-historicrallyevents.com/event/rider-autograph-session-open-paddock/
LOCATION:High Village Park\, High Village Park\, Newark\, NJ\, 1111\, United States
ATTACH;FMTTYPE=image/jpeg:https://yl-historicrallyevents.com/wp-content/uploads/2018/06/blog-13-copyright-min.jpg
ORGANIZER;CN="Corredo":MAILTO:yoursite@example.com
END:VEVENT
END:VCALENDAR